BEGIN:VCALENDAR
VERSION:2.0
PRODID:-//https://www.sandiegofamily.com///NONSGML kigkonsult.se iCalcreator 2.10.15//
METHOD:PUBLISH
BEGIN:VEVENT
UID:20260421T181016UTC-9846rOlToX@https://www.sandiegofamily.com/
DTSTAMP:20260421T181016Z
DESCRIPTION: https://www.sandiegofamily.com/things-to-do/events-calendar/ev
 ent/9620-virtual-artists-astronomers
DTSTART:20201202T230000Z
DTEND:20201203T000000Z
LOCATION:Virtual Online Event ()
SUMMARY:VIRTUAL Artists & Astronomers
URL:https://www.sandiegofamily.com/things-to-do/events-calendar/event/9620-
 virtual-artists-astronomers
END:VEVENT
END:VCALENDAR
