BEGIN:VCALENDAR
VERSION:2.0
PRODID:-//https://www.sandiegofamily.com///NONSGML kigkonsult.se iCalcreator 2.10.15//
METHOD:PUBLISH
BEGIN:VEVENT
UID:20260420T054638UTC-5987bsvU2V@https://www.sandiegofamily.com/
DTSTAMP:20260420T054638Z
DESCRIPTION: https://www.sandiegofamily.com/things-to-do/events-calendar/ev
 ent/9415-virtual-howl-o-ween
DTSTART:20201030T230000Z
DTEND:20201031T000000Z
LOCATION:Virtual Online Event ()
SUMMARY:VIRTUAL Howl-o-ween
URL:https://www.sandiegofamily.com/things-to-do/events-calendar/event/9415-
 virtual-howl-o-ween
END:VEVENT
END:VCALENDAR
