BEGIN:VCALENDAR
VERSION:2.0
PRODID:-//https://www.sandiegofamily.com///NONSGML kigkonsult.se iCalcreator 2.10.15//
METHOD:PUBLISH
BEGIN:VEVENT
UID:20260423T203627UTC-5804ajeAcB@https://www.sandiegofamily.com/
DTSTAMP:20260423T203627Z
DESCRIPTION: https://www.sandiegofamily.com/things-to-do/events-calendar/ev
 ent/8693-seaworld-seven-seas-craft-beer-food-festival
DTSTART;VALUE=DATE:20200315
LOCATION:SeaWorld San Diego (500 Sea World Dr\, San Diego\, CA 92109\, USA)
SUMMARY:SeaWorld Seven Seas Craft Beer & Food Festival
URL:https://www.sandiegofamily.com/things-to-do/events-calendar/event/8693-
 seaworld-seven-seas-craft-beer-food-festival
END:VEVENT
END:VCALENDAR
