BEGIN:VCALENDAR
VERSION:2.0
PRODID:-//https://www.sandiegofamily.com///NONSGML kigkonsult.se iCalcreator 2.10.15//
METHOD:PUBLISH
BEGIN:VEVENT
UID:20260425T130024UTC-4240P4PVOU@https://www.sandiegofamily.com/
DTSTAMP:20260425T130024Z
DESCRIPTION: https://www.sandiegofamily.com/things-to-do/events-calendar/ev
 ent/8603-growing-up-seahorse-behind-the-scenes-tour
DTSTART;VALUE=DATE:20200531
LOCATION:Birch Aquarium at Scripps (2300 Expedition Way\, La Jolla\, CA 920
 37\, USA)
SUMMARY:“Growing Up Seahorse” Behind-the-Scenes Tour
URL:https://www.sandiegofamily.com/things-to-do/events-calendar/event/8603-
 growing-up-seahorse-behind-the-scenes-tour
END:VEVENT
END:VCALENDAR
