BEGIN:VCALENDAR
VERSION:2.0
PRODID:-//https://www.sandiegofamily.com///NONSGML kigkonsult.se iCalcreator 2.10.15//
METHOD:PUBLISH
BEGIN:VEVENT
UID:20260424T000503UTC-36950filah@https://www.sandiegofamily.com/
DTSTAMP:20260424T000503Z
DESCRIPTION: https://www.sandiegofamily.com/things-to-do/events-calendar/ev
 ent/8162-whale-dolphin-watching-cruises
DTSTART;VALUE=DATE:20200304
LOCATION:Pier 2\, downtown San Diego (970 N Harbor Dr\, San Diego\, CA 9213
 2\, USA)
SUMMARY:Whale & Dolphin Watching Cruises
URL:https://www.sandiegofamily.com/things-to-do/events-calendar/event/8162-
 whale-dolphin-watching-cruises
END:VEVENT
END:VCALENDAR
