BEGIN:VCALENDAR
VERSION:2.0
PRODID:-//https://www.sandiegofamily.com///NONSGML kigkonsult.se iCalcreator 2.10.15//
METHOD:PUBLISH
BEGIN:VEVENT
UID:20260424T071448UTC-5735JLoRvc@https://www.sandiegofamily.com/
DTSTAMP:20260424T071448Z
DESCRIPTION: https://www.sandiegofamily.com/things-to-do/events-calendar/ev
 ent/8063-jungle-bells
DTSTART;VALUE=DATE:20200101
LOCATION:San Diego Zoo\, Balboa Park (2920 Zoo Dr\, San Diego\, CA 92101\, 
 USA)
SUMMARY:Jungle Bells
URL:https://www.sandiegofamily.com/things-to-do/events-calendar/event/8063-
 jungle-bells
END:VEVENT
END:VCALENDAR
