BEGIN:VCALENDAR
VERSION:2.0
PRODID:-//https://www.sandiegofamily.com///NONSGML kigkonsult.se iCalcreator 2.10.15//
METHOD:PUBLISH
BEGIN:VEVENT
UID:20260423T222754UTC-5345GBTLjs@https://www.sandiegofamily.com/
DTSTAMP:20260423T222754Z
DESCRIPTION: https://www.sandiegofamily.com/things-to-do/events-calendar/ev
 ent/7928-beachside-winter-wonder-at-belmont-park
DTSTART;VALUE=DATE:20191215
LOCATION:Belmont Park (3146 Mission Blvd\, San Diego\, CA 92109\, USA)
SUMMARY:Beachside Winter Wonder at Belmont Park
URL:https://www.sandiegofamily.com/things-to-do/events-calendar/event/7928-
 beachside-winter-wonder-at-belmont-park
END:VEVENT
END:VCALENDAR
