BEGIN:VCALENDAR
VERSION:2.0
PRODID:-//https://www.sandiegofamily.com///NONSGML kigkonsult.se iCalcreator 2.10.15//
METHOD:PUBLISH
BEGIN:VEVENT
UID:20260424T000448UTC-4917muuRB0@https://www.sandiegofamily.com/
DTSTAMP:20260424T000448Z
DESCRIPTION: https://www.sandiegofamily.com/things-to-do/events-calendar/ev
 ent/7921-holidays-by-the-bay
DTSTART;VALUE=DATE:20191222
LOCATION:Seaport Village (849 W. Harbor Dr.\, downtown San Diego)
SUMMARY:Holidays by the Bay
URL:https://www.sandiegofamily.com/things-to-do/events-calendar/event/7921-
 holidays-by-the-bay
END:VEVENT
END:VCALENDAR
