BEGIN:VCALENDAR
VERSION:2.0
PRODID:-//https://www.sandiegofamily.com///NONSGML kigkonsult.se iCalcreator 2.10.15//
METHOD:PUBLISH
BEGIN:VEVENT
UID:20260424T000518UTC-36928dJxUR@https://www.sandiegofamily.com/
DTSTAMP:20260424T000518Z
DESCRIPTION: https://www.sandiegofamily.com/things-to-do/events-calendar/ev
 ent/7559-wish-you-were-here
DTSTART;VALUE=DATE:20191224
LOCATION:Maritime Museum of San Diego (1492 N Harbor Dr\, San Diego\, CA 92
 101\, USA)
SUMMARY:Wish You Were Here
URL:https://www.sandiegofamily.com/things-to-do/events-calendar/event/7559-
 wish-you-were-here
END:VEVENT
END:VCALENDAR
