BEGIN:VCALENDAR
VERSION:2.0
PRODID:-//https://www.sandiegofamily.com///NONSGML kigkonsult.se iCalcreator 2.10.15//
METHOD:PUBLISH
BEGIN:VEVENT
UID:20260419T172125UTC-0804MUpdzo@https://www.sandiegofamily.com/
DTSTAMP:20260419T172125Z
DESCRIPTION: https://www.sandiegofamily.com/things-to-do/events-calendar/ev
 ent/7495-ice-skating-at-viejas-casino-resort
DTSTART;VALUE=DATE:20191221
LOCATION:Viejas Outlet Center (5005 Willows Rd\, Alpine\, CA 91901\, USA)
SUMMARY:Ice Skating at Viejas Casino & Resort
URL:https://www.sandiegofamily.com/things-to-do/events-calendar/event/7495-
 ice-skating-at-viejas-casino-resort
END:VEVENT
END:VCALENDAR
