BEGIN:VCALENDAR
VERSION:2.0
PRODID:-//https://www.sandiegofamily.com///NONSGML kigkonsult.se iCalcreator 2.10.15//
METHOD:PUBLISH
BEGIN:VEVENT
UID:20260426T004231UTC-3070k11kj8@https://www.sandiegofamily.com/
DTSTAMP:20260426T004231Z
DESCRIPTION: https://www.sandiegofamily.com/things-to-do/events-calendar/ev
 ent/7368-insects-face-to-face
DTSTART;VALUE=DATE:20200307
LOCATION:San Diego Natural History Museum\, Balboa Park (1788 El Prado\, Sa
 n Diego\, CA 92101\, USA)
SUMMARY:Insects Face to Face
URL:https://www.sandiegofamily.com/things-to-do/events-calendar/event/7368-
 insects-face-to-face
END:VEVENT
END:VCALENDAR
