BEGIN:VCALENDAR
VERSION:2.0
PRODID:-//https://www.sandiegofamily.com///NONSGML kigkonsult.se iCalcreator 2.10.15//
METHOD:PUBLISH
BEGIN:VEVENT
UID:20260424T104312UTC-7573x9CZCa@https://www.sandiegofamily.com/
DTSTAMP:20260424T104312Z
DESCRIPTION: https://www.sandiegofamily.com/things-to-do/events-calendar/ev
 ent/7166-san-diego-zoos-halgloween
DTSTART;VALUE=DATE:20191020
LOCATION:San Diego Zoo\, Balboa Park (2920 Zoo Dr\, San Diego\, CA 92101\, 
 USA)
SUMMARY:San Diego Zoo’s HalGLOWeen
URL:https://www.sandiegofamily.com/things-to-do/events-calendar/event/7166-
 san-diego-zoos-halgloween
END:VEVENT
END:VCALENDAR
