BEGIN:VCALENDAR
VERSION:2.0
PRODID:-//https://www.sandiegofamily.com///NONSGML kigkonsult.se iCalcreator 2.10.15//
METHOD:PUBLISH
BEGIN:VEVENT
UID:20260422T224356UTC-7099d6iw7C@https://www.sandiegofamily.com/
DTSTAMP:20260422T224356Z
DESCRIPTION: https://www.sandiegofamily.com/things-to-do/events-calendar/ev
 ent/6862-summertime-sailor-days
DTSTART:20190819T160000Z
DTEND:20190819T210000Z
LOCATION:Maritime Museum of San Diego (1492 N Harbor Dr\, San Diego\, CA 92
 101\, USA)
SUMMARY:Summertime Sailor Days
URL:https://www.sandiegofamily.com/things-to-do/events-calendar/event/6862-
 summertime-sailor-days
END:VEVENT
END:VCALENDAR
