BEGIN:VCALENDAR
VERSION:2.0
PRODID:-//https://www.sandiegofamily.com///NONSGML kigkonsult.se iCalcreator 2.10.15//
METHOD:PUBLISH
BEGIN:VEVENT
UID:20260423T202356UTC-1852BMZejd@https://www.sandiegofamily.com/
DTSTAMP:20260423T202356Z
DESCRIPTION: https://www.sandiegofamily.com/things-to-do/events-calendar/ev
 ent/6687-electric-ocean-at-seaworld
DTSTART;VALUE=DATE:20190715
LOCATION:SeaWorld San Diego (500 Sea World Dr\, San Diego\, CA 92109\, USA)
SUMMARY:Electric Ocean at SeaWorld
URL:https://www.sandiegofamily.com/things-to-do/events-calendar/event/6687-
 electric-ocean-at-seaworld
END:VEVENT
END:VCALENDAR
