BEGIN:VCALENDAR
VERSION:2.0
PRODID:-//https://www.sandiegofamily.com///NONSGML kigkonsult.se iCalcreator 2.10.15//
METHOD:PUBLISH
BEGIN:VEVENT
UID:20260424T042607UTC-6603IRUdb8@https://www.sandiegofamily.com/
DTSTAMP:20260424T042607Z
DESCRIPTION: https://www.sandiegofamily.com/things-to-do/events-calendar/ev
 ent/6680-electric-ocean-at-seaworld
DTSTART;VALUE=DATE:20190708
LOCATION:SeaWorld San Diego (500 Sea World Dr\, San Diego\, CA 92109\, USA)
SUMMARY:Electric Ocean at SeaWorld
URL:https://www.sandiegofamily.com/things-to-do/events-calendar/event/6680-
 electric-ocean-at-seaworld
END:VEVENT
END:VCALENDAR
