BEGIN:VCALENDAR
VERSION:2.0
PRODID:-//https://www.sandiegofamily.com///NONSGML kigkonsult.se iCalcreator 2.10.15//
METHOD:PUBLISH
BEGIN:VEVENT
UID:20260424T102556UTC-9950EsUtJx@https://www.sandiegofamily.com/
DTSTAMP:20260424T102556Z
DESCRIPTION: https://www.sandiegofamily.com/things-to-do/events-calendar/ev
 ent/6628-summer-safari
DTSTART;VALUE=DATE:20190826
LOCATION:San Diego Zoo Safari Park (15500 San Pasqual Valley Rd\, Escondido
 \, CA 92027\, USA)
SUMMARY:Summer Safari
URL:https://www.sandiegofamily.com/things-to-do/events-calendar/event/6628-
 summer-safari
END:VEVENT
END:VCALENDAR
