BEGIN:VCALENDAR
VERSION:2.0
PRODID:-//https://www.sandiegofamily.com///NONSGML kigkonsult.se iCalcreator 2.10.15//
METHOD:PUBLISH
BEGIN:VEVENT
UID:20260424T030411UTC-5934hp3dmU@https://www.sandiegofamily.com/
DTSTAMP:20260424T030411Z
DESCRIPTION: https://www.sandiegofamily.com/things-to-do/events-calendar/ev
 ent/6398-san-diego-county-fair-oz-some
DTSTART;VALUE=DATE:20190614
LOCATION:Del Mar Fairgrounds (2260 Jimmy Durante Blvd\, Del Mar\, CA 92014\
 , USA)
SUMMARY:San Diego County Fair: Oz-some
URL:https://www.sandiegofamily.com/things-to-do/events-calendar/event/6398-
 san-diego-county-fair-oz-some
END:VEVENT
END:VCALENDAR
