BEGIN:VCALENDAR
VERSION:2.0
PRODID:-//https://www.sandiegofamily.com///NONSGML kigkonsult.se iCalcreator 2.10.15//
METHOD:PUBLISH
BEGIN:VEVENT
UID:20260419T194001UTC-5598VkRFfl@https://www.sandiegofamily.com/
DTSTAMP:20260419T194001Z
DESCRIPTION: https://www.sandiegofamily.com/things-to-do/events-calendar/ev
 ent/6342-seadragons-seahorses
DTSTART;VALUE=DATE:20190912
LOCATION:Birch Aquarium at Scripps (2300 Expedition Way\, La Jolla\, CA 920
 37\, USA)
SUMMARY:Seadragons & Seahorses
URL:https://www.sandiegofamily.com/things-to-do/events-calendar/event/6342-
 seadragons-seahorses
END:VEVENT
END:VCALENDAR
