BEGIN:VCALENDAR
VERSION:2.0
PRODID:-//https://www.sandiegofamily.com///NONSGML kigkonsult.se iCalcreator 2.10.15//
METHOD:PUBLISH
BEGIN:VEVENT
UID:20260422T040927UTC-399866sUlc@https://www.sandiegofamily.com/
DTSTAMP:20260422T040927Z
DESCRIPTION: https://www.sandiegofamily.com/things-to-do/events-calendar/ev
 ent/6197-port-of-san-diego-festival-of-the-sea
DTSTART;VALUE=DATE:20190525
LOCATION:Maritime Museum of San Diego (1492 N Harbor Dr\, San Diego\, CA 92
 101\, USA)
SUMMARY:Port of San Diego Festival of the Sea
URL:https://www.sandiegofamily.com/things-to-do/events-calendar/event/6197-
 port-of-san-diego-festival-of-the-sea
END:VEVENT
END:VCALENDAR
