BEGIN:VCALENDAR
VERSION:2.0
PRODID:-//https://www.sandiegofamily.com///NONSGML kigkonsult.se iCalcreator 2.10.15//
METHOD:PUBLISH
BEGIN:VEVENT
UID:20260425T011621UTC-0653v5rfhg@https://www.sandiegofamily.com/
DTSTAMP:20260425T011621Z
DESCRIPTION: https://www.sandiegofamily.com/things-to-do/events-calendar/ev
 ent/50579-musica-en-la-plaza
DTSTART;VALUE=DATE:20260529
LOCATION:California Center for the Arts\, Escondido (340 N Escondido Blvd\,
  Escondido\, CA 92025\, USA)
SUMMARY:Música en la Plaza
URL:https://www.sandiegofamily.com/things-to-do/events-calendar/event/50579
 -musica-en-la-plaza
END:VEVENT
END:VCALENDAR
