BEGIN:VCALENDAR
VERSION:2.0
PRODID:-//https://www.sandiegofamily.com///NONSGML kigkonsult.se iCalcreator 2.10.15//
METHOD:PUBLISH
BEGIN:VEVENT
UID:20260425T170459UTC-6350waTjKJ@https://www.sandiegofamily.com/
DTSTAMP:20260425T170459Z
DESCRIPTION: https://www.sandiegofamily.com/things-to-do/events-calendar/ev
 ent/50570-national-parks-fee-free-days
DTSTART;VALUE=DATE:20260525
LOCATION:San Diego\, CA ()
SUMMARY:National Parks Fee FREE Days
URL:https://www.sandiegofamily.com/things-to-do/events-calendar/event/50570
 -national-parks-fee-free-days
END:VEVENT
END:VCALENDAR
