BEGIN:VCALENDAR
VERSION:2.0
PRODID:-//https://www.sandiegofamily.com///NONSGML kigkonsult.se iCalcreator 2.10.15//
METHOD:PUBLISH
BEGIN:VEVENT
UID:20260424T005729UTC-8413No7Rud@https://www.sandiegofamily.com/
DTSTAMP:20260424T005729Z
DESCRIPTION: https://www.sandiegofamily.com/things-to-do/events-calendar/ev
 ent/50533-sesame-summer-splash
DTSTART;VALUE=DATE:20260802
LOCATION:Sesame Place San Diego (2052 Entertainment Cir\, Chula Vista\, CA 
 91911\, USA)
SUMMARY:Sesame Summer Splash
URL:https://www.sandiegofamily.com/things-to-do/events-calendar/event/50533
 -sesame-summer-splash
END:VEVENT
END:VCALENDAR
