BEGIN:VCALENDAR
VERSION:2.0
PRODID:-//https://www.sandiegofamily.com///NONSGML kigkonsult.se iCalcreator 2.10.15//
METHOD:PUBLISH
BEGIN:VEVENT
UID:20260423T180729UTC-3897v2r4Lk@https://www.sandiegofamily.com/
DTSTAMP:20260423T180729Z
DESCRIPTION: https://www.sandiegofamily.com/things-to-do/events-calendar/ev
 ent/50499-sesame-summer-splash
DTSTART;VALUE=DATE:20260629
LOCATION:Sesame Place San Diego (2052 Entertainment Cir\, Chula Vista\, CA 
 91911\, USA)
SUMMARY:Sesame Summer Splash
URL:https://www.sandiegofamily.com/things-to-do/events-calendar/event/50499
 -sesame-summer-splash
END:VEVENT
END:VCALENDAR
