BEGIN:VCALENDAR
VERSION:2.0
PRODID:-//https://www.sandiegofamily.com///NONSGML kigkonsult.se iCalcreator 2.10.15//
METHOD:PUBLISH
BEGIN:VEVENT
UID:20260423T140832UTC-4356F9P3Ui@https://www.sandiegofamily.com/
DTSTAMP:20260423T140832Z
DESCRIPTION: https://www.sandiegofamily.com/things-to-do/events-calendar/ev
 ent/50482-sesame-summer-splash
DTSTART;VALUE=DATE:20260612
LOCATION:Sesame Place San Diego (2052 Entertainment Cir\, Chula Vista\, CA 
 91911\, USA)
SUMMARY:Sesame Summer Splash
URL:https://www.sandiegofamily.com/things-to-do/events-calendar/event/50482
 -sesame-summer-splash
END:VEVENT
END:VCALENDAR
