BEGIN:VCALENDAR
VERSION:2.0
PRODID:-//https://www.sandiegofamily.com///NONSGML kigkonsult.se iCalcreator 2.10.15//
METHOD:PUBLISH
BEGIN:VEVENT
UID:20260424T214944UTC-7514vCLMnp@https://www.sandiegofamily.com/
DTSTAMP:20260424T214944Z
DESCRIPTION: https://www.sandiegofamily.com/things-to-do/events-calendar/ev
 ent/50460-the-wave-waterpark-opens
DTSTART;VALUE=DATE:20260606
LOCATION:The Wave Waterpark (101 Wave Dr\, Vista\, CA 92083\, USA)
SUMMARY:The Wave Waterpark Opens
URL:https://www.sandiegofamily.com/things-to-do/events-calendar/event/50460
 -the-wave-waterpark-opens
END:VEVENT
END:VCALENDAR
