BEGIN:VCALENDAR
VERSION:2.0
PRODID:-//https://www.sandiegofamily.com///NONSGML kigkonsult.se iCalcreator 2.10.15//
METHOD:PUBLISH
BEGIN:VEVENT
UID:20260425T165642UTC-7525gC1buB@https://www.sandiegofamily.com/
DTSTAMP:20260425T165642Z
DESCRIPTION: https://www.sandiegofamily.com/things-to-do/events-calendar/ev
 ent/50457-the-wave-waterpark-opens
DTSTART;VALUE=DATE:20260524
LOCATION:The Wave Waterpark (101 Wave Dr\, Vista\, CA 92083\, USA)
SUMMARY:The Wave Waterpark Opens
URL:https://www.sandiegofamily.com/things-to-do/events-calendar/event/50457
 -the-wave-waterpark-opens
END:VEVENT
END:VCALENDAR
