BEGIN:VCALENDAR
VERSION:2.0
PRODID:-//https://www.sandiegofamily.com///NONSGML kigkonsult.se iCalcreator 2.10.15//
METHOD:PUBLISH
BEGIN:VEVENT
UID:20260425T140456UTC-76896dZ2vA@https://www.sandiegofamily.com/
DTSTAMP:20260425T140456Z
DESCRIPTION: https://www.sandiegofamily.com/things-to-do/events-calendar/ev
 ent/50451-top-gun-40th-celebration
DTSTART;VALUE=DATE:20260522
LOCATION:USS Midway Museum (910 N Harbor Dr\, San Diego\, CA 92101\, USA)
SUMMARY:Top Gun 40th Celebration
URL:https://www.sandiegofamily.com/things-to-do/events-calendar/event/50451
 -top-gun-40th-celebration
END:VEVENT
END:VCALENDAR
