BEGIN:VCALENDAR
VERSION:2.0
PRODID:-//https://www.sandiegofamily.com///NONSGML kigkonsult.se iCalcreator 2.10.15//
METHOD:PUBLISH
BEGIN:VEVENT
UID:20260424T221302UTC-1307noPCKj@https://www.sandiegofamily.com/
DTSTAMP:20260424T221302Z
DESCRIPTION: https://www.sandiegofamily.com/things-to-do/events-calendar/ev
 ent/50450-lakeside-bike-rodeo
DTSTART;VALUE=DATE:20260522
LOCATION:San Diego\, CA ()
SUMMARY:Lakeside Bike Rodeo
URL:https://www.sandiegofamily.com/things-to-do/events-calendar/event/50450
 -lakeside-bike-rodeo
END:VEVENT
END:VCALENDAR
