BEGIN:VCALENDAR
VERSION:2.0
PRODID:-//https://www.sandiegofamily.com///NONSGML kigkonsult.se iCalcreator 2.10.15//
METHOD:PUBLISH
BEGIN:VEVENT
UID:20260425T105943UTC-0165x1ww7k@https://www.sandiegofamily.com/
DTSTAMP:20260425T105943Z
DESCRIPTION: https://www.sandiegofamily.com/things-to-do/events-calendar/ev
 ent/50447-padres-star-wars-weekend
DTSTART;VALUE=DATE:20260522
LOCATION:Petco Park (100 Park Blvd\, San Diego\, CA 92101\, USA)
SUMMARY:Padres Star Wars Weekend
URL:https://www.sandiegofamily.com/things-to-do/events-calendar/event/50447
 -padres-star-wars-weekend
END:VEVENT
END:VCALENDAR
