BEGIN:VCALENDAR
VERSION:2.0
PRODID:-//https://www.sandiegofamily.com///NONSGML kigkonsult.se iCalcreator 2.10.15//
METHOD:PUBLISH
BEGIN:VEVENT
UID:20260424T234548UTC-1481gXRX5m@https://www.sandiegofamily.com/
DTSTAMP:20260424T234548Z
DESCRIPTION: https://www.sandiegofamily.com/things-to-do/events-calendar/ev
 ent/50442-movie-nights-at-the-museum
DTSTART;VALUE=DATE:20260521
LOCATION:Gaslamp Quarter (Fourth Ave & Island Ave\, San Diego\, CA 92101\, 
 USA)
SUMMARY:Movie Nights at the Museum
URL:https://www.sandiegofamily.com/things-to-do/events-calendar/event/50442
 -movie-nights-at-the-museum
END:VEVENT
END:VCALENDAR
