BEGIN:VCALENDAR
VERSION:2.0
PRODID:-//https://www.sandiegofamily.com///NONSGML kigkonsult.se iCalcreator 2.10.15//
METHOD:PUBLISH
BEGIN:VEVENT
UID:20260425T034835UTC-4587v6fR2n@https://www.sandiegofamily.com/
DTSTAMP:20260425T034835Z
DESCRIPTION: https://www.sandiegofamily.com/things-to-do/events-calendar/ev
 ent/50441-family-arts-literacy-night
DTSTART;VALUE=DATE:20260521
LOCATION:San Diego\, CA ()
SUMMARY:Family Arts & Literacy Night
URL:https://www.sandiegofamily.com/things-to-do/events-calendar/event/50441
 -family-arts-literacy-night
END:VEVENT
END:VCALENDAR
