BEGIN:VCALENDAR
VERSION:2.0
PRODID:-//https://www.sandiegofamily.com///NONSGML kigkonsult.se iCalcreator 2.10.15//
METHOD:PUBLISH
BEGIN:VEVENT
UID:20260425T140411UTC-8194cnU17f@https://www.sandiegofamily.com/
DTSTAMP:20260425T140411Z
DESCRIPTION: https://www.sandiegofamily.com/things-to-do/events-calendar/ev
 ent/50440-encinitas-cruise-night
DTSTART;VALUE=DATE:20260521
LOCATION:Encinitas\, CA (230 Quail Gardens Dr.\, Encinitas)
SUMMARY:Encinitas Cruise Night
URL:https://www.sandiegofamily.com/things-to-do/events-calendar/event/50440
 -encinitas-cruise-night
END:VEVENT
END:VCALENDAR
