BEGIN:VCALENDAR
VERSION:2.0
PRODID:-//https://www.sandiegofamily.com///NONSGML kigkonsult.se iCalcreator 2.10.15//
METHOD:PUBLISH
BEGIN:VEVENT
UID:20260425T155240UTC-2697Dl9aaZ@https://www.sandiegofamily.com/
DTSTAMP:20260425T155240Z
DESCRIPTION: https://www.sandiegofamily.com/things-to-do/events-calendar/ev
 ent/50439-sandag-bike-anywhere-day
DTSTART;VALUE=DATE:20260521
LOCATION:San Diego\, CA ()
SUMMARY:SANDAG Bike Anywhere Day
URL:https://www.sandiegofamily.com/things-to-do/events-calendar/event/50439
 -sandag-bike-anywhere-day
END:VEVENT
END:VCALENDAR
