BEGIN:VCALENDAR
VERSION:2.0
PRODID:-//https://www.sandiegofamily.com///NONSGML kigkonsult.se iCalcreator 2.10.15//
METHOD:PUBLISH
BEGIN:VEVENT
UID:20260424T202721UTC-7871UUKBJO@https://www.sandiegofamily.com/
DTSTAMP:20260424T202721Z
DESCRIPTION: https://www.sandiegofamily.com/things-to-do/events-calendar/ev
 ent/50438-coast-of-pb-restaurant-walk
DTSTART;VALUE=DATE:20260520
LOCATION:Pacific Beach (Ingraham St\, San Diego\, CA 92109\, USA)
SUMMARY:Coast of PB Restaurant Walk
URL:https://www.sandiegofamily.com/things-to-do/events-calendar/event/50438
 -coast-of-pb-restaurant-walk
END:VEVENT
END:VCALENDAR
