BEGIN:VCALENDAR
VERSION:2.0
PRODID:-//https://www.sandiegofamily.com///NONSGML kigkonsult.se iCalcreator 2.10.15//
METHOD:PUBLISH
BEGIN:VEVENT
UID:20260424T145424UTC-1166fvs6F4@https://www.sandiegofamily.com/
DTSTAMP:20260424T145424Z
DESCRIPTION: https://www.sandiegofamily.com/things-to-do/events-calendar/ev
 ent/50437-red-shoe-day
DTSTART;VALUE=DATE:20260520
LOCATION:San Diego\, CA ()
SUMMARY:Red Shoe Day
URL:https://www.sandiegofamily.com/things-to-do/events-calendar/event/50437
 -red-shoe-day
END:VEVENT
END:VCALENDAR
