BEGIN:VCALENDAR
VERSION:2.0
PRODID:-//https://www.sandiegofamily.com///NONSGML kigkonsult.se iCalcreator 2.10.15//
METHOD:PUBLISH
BEGIN:VEVENT
UID:20260425T222846UTC-1760sSs53p@https://www.sandiegofamily.com/
DTSTAMP:20260425T222846Z
DESCRIPTION: https://www.sandiegofamily.com/things-to-do/events-calendar/ev
 ent/50436-mountain-lion-101
DTSTART;VALUE=DATE:20260517
LOCATION:San Diego\, CA ()
SUMMARY:Mountain Lion 101
URL:https://www.sandiegofamily.com/things-to-do/events-calendar/event/50436
 -mountain-lion-101
END:VEVENT
END:VCALENDAR
