BEGIN:VCALENDAR
VERSION:2.0
PRODID:-//https://www.sandiegofamily.com///NONSGML kigkonsult.se iCalcreator 2.10.15//
METHOD:PUBLISH
BEGIN:VEVENT
UID:20260424T050105UTC-9544j8eulf@https://www.sandiegofamily.com/
DTSTAMP:20260424T050105Z
DESCRIPTION: https://www.sandiegofamily.com/things-to-do/events-calendar/ev
 ent/50425-junior-science-club-will-it-work
DTSTART;VALUE=DATE:20260516
LOCATION:Fleet Science Center\, Balboa Park (1875 El Prado\, San Diego\, CA
  92101\, USA)
SUMMARY:Junior Science Club: Will It Work?
URL:https://www.sandiegofamily.com/things-to-do/events-calendar/event/50425
 -junior-science-club-will-it-work
END:VEVENT
END:VCALENDAR
