BEGIN:VCALENDAR
VERSION:2.0
PRODID:-//https://www.sandiegofamily.com///NONSGML kigkonsult.se iCalcreator 2.10.15//
METHOD:PUBLISH
BEGIN:VEVENT
UID:20260423T154645UTC-8258kmSZUc@https://www.sandiegofamily.com/
DTSTAMP:20260423T154645Z
DESCRIPTION: https://www.sandiegofamily.com/things-to-do/events-calendar/ev
 ent/50422-blue-star-museums-offers-free-admission
DTSTART;VALUE=DATE:20260906
LOCATION:San Diego\, CA ()
SUMMARY:Blue Star Museums offers FREE admission
URL:https://www.sandiegofamily.com/things-to-do/events-calendar/event/50422
 -blue-star-museums-offers-free-admission
END:VEVENT
END:VCALENDAR
