BEGIN:VCALENDAR
VERSION:2.0
PRODID:-//https://www.sandiegofamily.com///NONSGML kigkonsult.se iCalcreator 2.10.15//
METHOD:PUBLISH
BEGIN:VEVENT
UID:20260423T194317UTC-4524XcvZKW@https://www.sandiegofamily.com/
DTSTAMP:20260423T194317Z
DESCRIPTION: https://www.sandiegofamily.com/things-to-do/events-calendar/ev
 ent/50374-blue-star-museums-offers-free-admission
DTSTART;VALUE=DATE:20260720
LOCATION:San Diego\, CA ()
SUMMARY:Blue Star Museums offers FREE admission
URL:https://www.sandiegofamily.com/things-to-do/events-calendar/event/50374
 -blue-star-museums-offers-free-admission
END:VEVENT
END:VCALENDAR
