BEGIN:VCALENDAR
VERSION:2.0
PRODID:-//https://www.sandiegofamily.com///NONSGML kigkonsult.se iCalcreator 2.10.15//
METHOD:PUBLISH
BEGIN:VEVENT
UID:20260424T000203UTC-7534nZH3Hu@https://www.sandiegofamily.com/
DTSTAMP:20260424T000203Z
DESCRIPTION: https://www.sandiegofamily.com/things-to-do/events-calendar/ev
 ent/50344-blue-star-museums-offers-free-admission
DTSTART;VALUE=DATE:20260620
LOCATION:San Diego\, CA ()
SUMMARY:Blue Star Museums offers FREE admission
URL:https://www.sandiegofamily.com/things-to-do/events-calendar/event/50344
 -blue-star-museums-offers-free-admission
END:VEVENT
END:VCALENDAR
