BEGIN:VCALENDAR
VERSION:2.0
PRODID:-//https://www.sandiegofamily.com///NONSGML kigkonsult.se iCalcreator 2.10.15//
METHOD:PUBLISH
BEGIN:VEVENT
UID:20260424T130812UTC-85223zpvk2@https://www.sandiegofamily.com/
DTSTAMP:20260424T130812Z
DESCRIPTION: https://www.sandiegofamily.com/things-to-do/events-calendar/ev
 ent/50340-blue-star-museums-offers-free-admission
DTSTART;VALUE=DATE:20260616
LOCATION:San Diego\, CA ()
SUMMARY:Blue Star Museums offers FREE admission
URL:https://www.sandiegofamily.com/things-to-do/events-calendar/event/50340
 -blue-star-museums-offers-free-admission
END:VEVENT
END:VCALENDAR
