BEGIN:VCALENDAR
VERSION:2.0
PRODID:-//https://www.sandiegofamily.com///NONSGML kigkonsult.se iCalcreator 2.10.15//
METHOD:PUBLISH
BEGIN:VEVENT
UID:20260423T210303UTC-1494aaNlEh@https://www.sandiegofamily.com/
DTSTAMP:20260423T210303Z
DESCRIPTION: https://www.sandiegofamily.com/things-to-do/events-calendar/ev
 ent/50326-blue-star-museums-offers-free-admission
DTSTART;VALUE=DATE:20260602
LOCATION:San Diego\, CA ()
SUMMARY:Blue Star Museums offers FREE admission
URL:https://www.sandiegofamily.com/things-to-do/events-calendar/event/50326
 -blue-star-museums-offers-free-admission
END:VEVENT
END:VCALENDAR
