BEGIN:VCALENDAR
VERSION:2.0
PRODID:-//https://www.sandiegofamily.com///NONSGML kigkonsult.se iCalcreator 2.10.15//
METHOD:PUBLISH
BEGIN:VEVENT
UID:20260423T194038UTC-1522fH6g45@https://www.sandiegofamily.com/
DTSTAMP:20260423T194038Z
DESCRIPTION: https://www.sandiegofamily.com/things-to-do/events-calendar/ev
 ent/50318-blue-star-museums-offers-free-admission
DTSTART;VALUE=DATE:20260525
LOCATION:San Diego\, CA ()
SUMMARY:Blue Star Museums offers FREE admission
URL:https://www.sandiegofamily.com/things-to-do/events-calendar/event/50318
 -blue-star-museums-offers-free-admission
END:VEVENT
END:VCALENDAR
