BEGIN:VCALENDAR
VERSION:2.0
PRODID:-//https://www.sandiegofamily.com///NONSGML kigkonsult.se iCalcreator 2.10.15//
METHOD:PUBLISH
BEGIN:VEVENT
UID:20260424T213612UTC-3153hN8Vp2@https://www.sandiegofamily.com/
DTSTAMP:20260424T213612Z
DESCRIPTION: https://www.sandiegofamily.com/things-to-do/events-calendar/ev
 ent/50284-purpose
DTSTART;VALUE=DATE:20260513
LOCATION:La Jolla Playhouse (2910 La Jolla Village Dr\, La Jolla\, CA 92093
 \, USA)
SUMMARY:“Purpose.” 
URL:https://www.sandiegofamily.com/things-to-do/events-calendar/event/50284
 -purpose
END:VEVENT
END:VCALENDAR
