BEGIN:VCALENDAR
VERSION:2.0
PRODID:-//https://www.sandiegofamily.com///NONSGML kigkonsult.se iCalcreator 2.10.15//
METHOD:PUBLISH
BEGIN:VEVENT
UID:20260424T180421UTC-5537AKhgpI@https://www.sandiegofamily.com/
DTSTAMP:20260424T180421Z
DESCRIPTION: https://www.sandiegofamily.com/things-to-do/events-calendar/ev
 ent/50280-mothers-day-cruises-with-the-gondola-company
DTSTART;VALUE=DATE:20260510
LOCATION:San Diego\, CA ()
SUMMARY:Mother’s Day Cruises with The Gondola Company
URL:https://www.sandiegofamily.com/things-to-do/events-calendar/event/50280
 -mothers-day-cruises-with-the-gondola-company
END:VEVENT
END:VCALENDAR
