BEGIN:VCALENDAR
VERSION:2.0
PRODID:-//https://www.sandiegofamily.com///NONSGML kigkonsult.se iCalcreator 2.10.15//
METHOD:PUBLISH
BEGIN:VEVENT
UID:20260424T220535UTC-5342Vi6KUu@https://www.sandiegofamily.com/
DTSTAMP:20260424T220535Z
DESCRIPTION: https://www.sandiegofamily.com/things-to-do/events-calendar/ev
 ent/50279-mothers-day-brunch-cruise
DTSTART;VALUE=DATE:20260510
LOCATION:San Diego\, CA ()
SUMMARY:Mother’s Day Brunch Cruise
URL:https://www.sandiegofamily.com/things-to-do/events-calendar/event/50279
 -mothers-day-brunch-cruise
END:VEVENT
END:VCALENDAR
