BEGIN:VCALENDAR
VERSION:2.0
PRODID:-//https://www.sandiegofamily.com///NONSGML kigkonsult.se iCalcreator 2.10.15//
METHOD:PUBLISH
BEGIN:VEVENT
UID:20260425T022025UTC-31315MTpGu@https://www.sandiegofamily.com/
DTSTAMP:20260425T022025Z
DESCRIPTION: https://www.sandiegofamily.com/things-to-do/events-calendar/ev
 ent/50276-spring-arts-crafts-fair
DTSTART;VALUE=DATE:20260510
LOCATION:Bernardo Winery (13330 Paseo Del Verano Norte\, San Diego\, CA 921
 28\, USA)
SUMMARY:Spring Arts & Crafts Fair
URL:https://www.sandiegofamily.com/things-to-do/events-calendar/event/50276
 -spring-arts-crafts-fair
END:VEVENT
END:VCALENDAR
