BEGIN:VCALENDAR
VERSION:2.0
PRODID:-//https://www.sandiegofamily.com///NONSGML kigkonsult.se iCalcreator 2.10.15//
METHOD:PUBLISH
BEGIN:VEVENT
UID:20260424T220550UTC-5282avGBnT@https://www.sandiegofamily.com/
DTSTAMP:20260424T220550Z
DESCRIPTION: https://www.sandiegofamily.com/things-to-do/events-calendar/ev
 ent/50274-5k-walk-for-wildlife-fun-run
DTSTART;VALUE=DATE:20260509
LOCATION:San Diego\, CA ()
SUMMARY:5K Walk for Wildlife & Fun Run
URL:https://www.sandiegofamily.com/things-to-do/events-calendar/event/50274
 -5k-walk-for-wildlife-fun-run
END:VEVENT
END:VCALENDAR
