BEGIN:VCALENDAR
VERSION:2.0
PRODID:-//https://www.sandiegofamily.com///NONSGML kigkonsult.se iCalcreator 2.10.15//
METHOD:PUBLISH
BEGIN:VEVENT
UID:20260425T181633UTC-81687LBABF@https://www.sandiegofamily.com/
DTSTAMP:20260425T181633Z
DESCRIPTION: https://www.sandiegofamily.com/things-to-do/events-calendar/ev
 ent/50273-hawk-talk
DTSTART;VALUE=DATE:20260509
LOCATION:Blue Sky Ecological Reserve (16275 Espola Rd\, Poway\, CA 92064\, 
 USA)
SUMMARY:Hawk Talk
URL:https://www.sandiegofamily.com/things-to-do/events-calendar/event/50273
 -hawk-talk
END:VEVENT
END:VCALENDAR
