BEGIN:VCALENDAR
VERSION:2.0
PRODID:-//https://www.sandiegofamily.com///NONSGML kigkonsult.se iCalcreator 2.10.15//
METHOD:PUBLISH
BEGIN:VEVENT
UID:20260424T215950UTC-9934m6wsVF@https://www.sandiegofamily.com/
DTSTAMP:20260424T215950Z
DESCRIPTION: https://www.sandiegofamily.com/things-to-do/events-calendar/ev
 ent/50270-spring-antique-craft-fair
DTSTART;VALUE=DATE:20260509
LOCATION:Summers Past Farms (15602 Olde Hwy 80\, El Cajon\, CA 92021\, USA)
SUMMARY:Spring Antique & Craft Fair
URL:https://www.sandiegofamily.com/things-to-do/events-calendar/event/50270
 -spring-antique-craft-fair
END:VEVENT
END:VCALENDAR
